BEGIN:VCALENDAR
VERSION:2.0
PRODID:-//Squarespace Inc/Squarespace 6//v6//EN
BEGIN:VEVENT
UID:5d004857e98fb60001b0484d@squarespace.com
DTSTAMP:20190818T234038Z
DTSTART:20190616T180000Z
DTEND:20190616T200000Z
SUMMARY:Israel Focus Group Meeting - Sunday 16th June 2019
END:VEVENT
END:VCALENDAR
