BEGIN:VCALENDAR
VERSION:2.0
PRODID:-//Squarespace Inc/Squarespace 6//v6//EN
BEGIN:VEVENT
UID:5d0044ae26b4cb00012e8df7@squarespace.com
DTSTAMP:20190818T234004Z
DTSTART:20190612T003000Z
DTEND:20190612T013000Z
SUMMARY:Christian Friends of Israel Request June 2019
END:VEVENT
END:VCALENDAR
