BEGIN:VCALENDAR
VERSION:2.0
PRODID:-//Squarespace Inc/Squarespace 6//v6//EN
BEGIN:VEVENT
UID:5d3297c6dca084000192c8b3@squarespace.com
DTSTAMP:20190818T234155Z
DTSTART:20190724T230000Z
DTEND:20190725T020000Z
SUMMARY:REV CORNELIS KANT - 24 July 2019
END:VEVENT
END:VCALENDAR
