BEGIN:VCALENDAR
VERSION:2.0
PRODID:-//Squarespace Inc/Squarespace 6//v6//EN
BEGIN:VEVENT
UID:5fc1c5ea3c6ccf69f39fdafb@squarespace.com
DTSTAMP:20201128T040542Z
DTSTART:20201128T040000Z
DTEND:20201214T050000Z
SUMMARY:Hanukkah\, the Jewish Festival of Lights 2020
END:VEVENT
END:VCALENDAR
