BEGIN:VCALENDAR
VERSION:2.0
PRODID:-//Squarespace Inc/Squarespace 6//v6//EN
BEGIN:VEVENT
UID:5ce33b0d429c000001039002@squarespace.com
DTSTAMP:20190911T221208Z
DTSTART:20190519T180000Z
DTEND:20190527T200000Z
SUMMARY:IFG Meeting Report for Sun 19/5/19
END:VEVENT
END:VCALENDAR
