BEGIN:VCALENDAR
VERSION:2.0
PRODID:-//Squarespace Inc/Squarespace 6//v6//EN
BEGIN:VEVENT
UID:5dad1d8db11ecf3bce3dbeed@squarespace.com
DTSTAMP:20191022T074828Z
DTSTART:20191021T030000Z
DTEND:20200121T040000Z
SUMMARY:IFG Meeting Report for Sun 20 10 19
END:VEVENT
END:VCALENDAR
