BEGIN:VCALENDAR
VERSION:2.0
PRODID:-//Squarespace Inc/Squarespace 6//v6//EN
BEGIN:VEVENT
UID:5d3518aedca0840001b0d9ee@squarespace.com
DTSTAMP:20190911T221839Z
DTSTART:20190721T180000Z
DTEND:20191023T190000Z
SUMMARY:IFG Meeting Report for Sun 21 07 19
END:VEVENT
END:VCALENDAR
