BEGIN:VCALENDAR
VERSION:2.0
PRODID:-//Squarespace Inc/Squarespace 6//v6//EN
BEGIN:VEVENT
UID:5e7047b0aa52b77cb83203a8@squarespace.com
DTSTAMP:20200317T041149Z
DTSTART:20200317T040000Z
DTEND:20200418T060000Z
SUMMARY:IFG Meeting Report for Sunday 15 03 20
END:VEVENT
END:VCALENDAR
