BEGIN:VCALENDAR
VERSION:2.0
PRODID:-//Squarespace Inc/Squarespace 6//v6//EN
BEGIN:VEVENT
UID:5e4a457687b2ad50b4981e52@squarespace.com
DTSTAMP:20200317T041720Z
DTSTART:20200217T080000Z
DTEND:20200315T090000Z
SUMMARY:IFG Meeting Report for Sunday 16 02 20
END:VEVENT
END:VCALENDAR
