BEGIN:VCALENDAR
VERSION:2.0
PRODID:-//Squarespace Inc/Squarespace 6//v6//EN
BEGIN:VEVENT
UID:5eeff8f065e27324a641d0d6@squarespace.com
DTSTAMP:20200716T233613Z
DTSTART:20200622T003000Z
DTEND:20200719T013000Z
SUMMARY:IFG Meeting Report for Sunday 21 06 20
END:VEVENT
END:VCALENDAR
