BEGIN:VCALENDAR
VERSION:2.0
PRODID:-//Squarespace Inc/Squarespace 6//v6//EN
BEGIN:VEVENT
UID:5cd3828bec212d77a83bd2a1@squarespace.com
DTSTAMP:20190818T233614Z
DTSTART:20180916T180000Z
DTEND:20180916T200000Z
SUMMARY:IFG meeting Zohar Gonen 17 03 19
END:VEVENT
END:VCALENDAR
