BEGIN:VCALENDAR
VERSION:2.0
PRODID:-//Squarespace Inc/Squarespace 6//v6//EN
BEGIN:VEVENT
UID:5fb1b3b44aff1f2f8574273c@squarespace.com
DTSTAMP:20201115T232052Z
DTSTART:20201115T233000Z
DTEND:20210222T003000Z
SUMMARY:IFG Monthly meeting report 15 11 20
END:VEVENT
END:VCALENDAR
