BEGIN:VCALENDAR
VERSION:2.0
PRODID:-//Squarespace Inc/Squarespace 6//v6//EN
BEGIN:VEVENT
UID:5cd37e6e15fcc0631cb23615@squarespace.com
DTSTAMP:20190911T221237Z
DTSTART:20190509T013000Z
DTEND:20190701T023000Z
SUMMARY:IFG Monthly meeting report 16 09 18
END:VEVENT
END:VCALENDAR
