BEGIN:VCALENDAR
VERSION:2.0
PRODID:-//Squarespace Inc/Squarespace 6//v6//EN
BEGIN:VEVENT
UID:5e6c51659988a615499af6fc@squarespace.com
DTSTAMP:20200317T041811Z
DTSTART:20200314T040000Z
DTEND:20200315T050000Z
SUMMARY:Israel Focus Group Meeting - Sunday 15th March
END:VEVENT
END:VCALENDAR
