BEGIN:VCALENDAR
VERSION:2.0
PRODID:-//Squarespace Inc/Squarespace 6//v6//EN
BEGIN:VEVENT
UID:5faf51b39071527666078fff@squarespace.com
DTSTAMP:20201115T232459Z
DTSTART:20201114T040000Z
DTEND:20201116T050000Z
SUMMARY:Israel Focus Group Meeting - Sunday 15th November
END:VEVENT
END:VCALENDAR
