BEGIN:VCALENDAR
VERSION:2.0
PRODID:-//Squarespace Inc/Squarespace 6//v6//EN
BEGIN:VEVENT
UID:5d796ddecc44cc244e9d449c@squarespace.com
DTSTAMP:20190911T220412Z
DTSTART:20190911T220000Z
DTEND:20190916T230000Z
SUMMARY:Israel Focus Group Meeting - Sunday 15th September
END:VEVENT
END:VCALENDAR
