BEGIN:VCALENDAR
VERSION:2.0
PRODID:-//Squarespace Inc/Squarespace 6//v6//EN
BEGIN:VEVENT
UID:5f2bc48265bad320215b552a@squarespace.com
DTSTAMP:20200816T044846Z
DTSTART:20200806T090000Z
DTEND:20200919T100000Z
SUMMARY:Israel Focus Group Meeting - Sunday 16th August postponed
END:VEVENT
END:VCALENDAR
