BEGIN:VCALENDAR
VERSION:2.0
PRODID:-//Squarespace Inc/Squarespace 6//v6//EN
BEGIN:VEVENT
UID:5e479dc5dd42c458f308a32d@squarespace.com
DTSTAMP:20200215T075219Z
DTSTART:20200215T073000Z
DTEND:20200315T083000Z
SUMMARY:Israel Focus Group Meeting - Sunday 16th February 2020
END:VEVENT
END:VCALENDAR
