BEGIN:VCALENDAR
VERSION:2.0
PRODID:-//Squarespace Inc/Squarespace 6//v6//EN
BEGIN:VEVENT
UID:5dce2e35d2cdeb26ce2676e6@squarespace.com
DTSTAMP:20191115T045407Z
DTSTART:20191115T050000Z
DTEND:20191217T060000Z
SUMMARY:Israel Focus Group Meeting - Sunday 17 11 19
END:VEVENT
END:VCALENDAR
