BEGIN:VCALENDAR
VERSION:2.0
PRODID:-//Squarespace Inc/Squarespace 6//v6//EN
BEGIN:VEVENT
UID:5d5901d0f708ac00018b9ecf@squarespace.com
DTSTAMP:20190911T221744Z
DTSTART:20190818T180000Z
DTEND:20191019T190000Z
SUMMARY:Israel Focus Group meeting - Sunday 18th August 2018
END:VEVENT
END:VCALENDAR
