BEGIN:VCALENDAR
VERSION:2.0
PRODID:-//Squarespace Inc/Squarespace 6//v6//EN
BEGIN:VEVENT
UID:5f895c71d271f95bafd18f6b@squarespace.com
DTSTAMP:20201016T084627Z
DTSTART:20201016T090000Z
DTEND:20201116T100000Z
SUMMARY:Israel Focus Group Meeting - Sunday 18th October
END:VEVENT
END:VCALENDAR
