BEGIN:VCALENDAR
VERSION:2.0
PRODID:-//Squarespace Inc/Squarespace 6//v6//EN
BEGIN:VEVENT
UID:5e22b5abdcc09322eaa9c44b@squarespace.com
DTSTAMP:20200215T074920Z
DTSTART:20200118T080000Z
DTEND:20200214T090000Z
SUMMARY:Israel Focus Group Meeting - Sunday 19th January 2020
END:VEVENT
END:VCALENDAR
