BEGIN:VCALENDAR
VERSION:2.0
PRODID:-//Squarespace Inc/Squarespace 6//v6//EN
BEGIN:VEVENT
UID:5f10e193194e3c617624ee46@squarespace.com
DTSTAMP:20200716T233421Z
DTSTART:20200717T233000Z
DTEND:20200815T003000Z
SUMMARY:Israel Focus Group Meeting - Sunday 19th July
END:VEVENT
END:VCALENDAR
