BEGIN:VCALENDAR
VERSION:2.0
PRODID:-//Squarespace Inc/Squarespace 6//v6//EN
BEGIN:VEVENT
UID:5cdf405b2ceeb60001462818@squarespace.com
DTSTAMP:20190818T233723Z
DTSTART:20190519T180000Z
DTEND:20190519T200000Z
SUMMARY:Israel Focus Group Meeting - Sunday 19th May
GEO:-36.888109;174.794291
LOCATION:Israel focus Group\, 17 Marewa Road\, Auckland\, Auckland\, 1051\, 
 New Zealand
END:VEVENT
END:VCALENDAR
