BEGIN:VCALENDAR
VERSION:2.0
PRODID:-//Squarespace Inc/Squarespace 6//v6//EN
BEGIN:VEVENT
UID:5da81f48e101e50a435bac11@squarespace.com
DTSTAMP:20191115T045632Z
DTSTART:20191017T080000Z
DTEND:20191114T090000Z
SUMMARY:Israel Focus Group Meeting - Sunday 20th October 2019
END:VEVENT
END:VCALENDAR
