BEGIN:VCALENDAR
VERSION:2.0
PRODID:-//Squarespace Inc/Squarespace 6//v6//EN
BEGIN:VEVENT
UID:5d2eeafee3c82300018fd565@squarespace.com
DTSTAMP:20190818T234124Z
DTSTART:20190721T180000Z
DTEND:20190721T200000Z
SUMMARY:Israel Focus Group Meeting - Sunday 21st July
END:VEVENT
END:VCALENDAR
