BEGIN:VCALENDAR
VERSION:2.0
PRODID:-//Squarespace Inc/Squarespace 6//v6//EN
BEGIN:VEVENT
UID:5eec5f8b062899628359d76d@squarespace.com
DTSTAMP:20200716T233643Z
DTSTART:20200619T070000Z
DTEND:20200717T080000Z
SUMMARY:Israel Focus Group Meeting - Sunday 21st June
END:VEVENT
END:VCALENDAR
