BEGIN:VCALENDAR
VERSION:2.0
PRODID:-//Squarespace Inc/Squarespace 6//v6//EN
BEGIN:VEVENT
UID:5d32885382d5a400014be862@squarespace.com
DTSTAMP:20190818T234108Z
DTSTART:20190720T033000Z
DTEND:20190720T043000Z
SUMMARY:JOANNA MOSS - Prayer and Revelation Tour
END:VEVENT
END:VCALENDAR
